BEGIN:VCALENDAR
VERSION:2.0
PRODID:-//mainJAZZ Würzburg - ECPv6.15.20//NONSGML v1.0//EN
CALSCALE:GREGORIAN
METHOD:PUBLISH
X-WR-CALNAME:mainJAZZ Würzburg
X-ORIGINAL-URL:https://mainjazz.de
X-WR-CALDESC:Veranstaltungen für mainJAZZ Würzburg
REFRESH-INTERVAL;VALUE=DURATION:PT1H
X-Robots-Tag:noindex
X-PUBLISHED-TTL:PT1H
BEGIN:VTIMEZONE
TZID:Europe/Berlin
BEGIN:DAYLIGHT
TZOFFSETFROM:+0100
TZOFFSETTO:+0200
TZNAME:CEST
DTSTART:20250330T010000
END:DAYLIGHT
BEGIN:STANDARD
TZOFFSETFROM:+0200
TZOFFSETTO:+0100
TZNAME:CET
DTSTART:20251026T010000
END:STANDARD
BEGIN:DAYLIGHT
TZOFFSETFROM:+0100
TZOFFSETTO:+0200
TZNAME:CEST
DTSTART:20260329T010000
END:DAYLIGHT
BEGIN:STANDARD
TZOFFSETFROM:+0200
TZOFFSETTO:+0100
TZNAME:CET
DTSTART:20261025T010000
END:STANDARD
BEGIN:DAYLIGHT
TZOFFSETFROM:+0100
TZOFFSETTO:+0200
TZNAME:CEST
DTSTART:20270328T010000
END:DAYLIGHT
BEGIN:STANDARD
TZOFFSETFROM:+0200
TZOFFSETTO:+0100
TZNAME:CET
DTSTART:20271031T010000
END:STANDARD
END:VTIMEZONE
BEGIN:VEVENT
DTSTART;TZID=Europe/Berlin:20260611T200000
DTEND;TZID=Europe/Berlin:20260611T200000
DTSTAMP:20260423T103237
CREATED:20260310T085024Z
LAST-MODIFIED:20260317T070840Z
UID:14232-1781208000-1781208000@mainjazz.de
SUMMARY:Latin Session
DESCRIPTION:Lateinamerikanische Musik\, die das Rauschen des Meeres mit dem Herzschlag der Erde vereint\, verspricht die internationale Gruppe „AMar y Tierra“. Mit tiefgründigen Liedern der großen Cantautores laden Catrinel Berindei (Gesang\, Kontrabass) und Rainer Christian Rosenbaum (Gitarre\, Charango\, Cajón\, andine Flöten) das Publikum ein auf eine musikalische Reise durch das Leben\, Lieben und die Leidenschaft der lateinamerikanischen Seele. Einen Bogen zu dem Hier und Jetzt spannen die beiden auch mit ihren eigenen Kompositionen\, die einen Einblick in ihre Träume\, Wünsche\, Fernweh und Glücksmomente geben und das Publikum mit ihrer musikalischen Leidenschaft in ihren Bann ziehen. In der Trio-Besetzung mit Carlos Patzi (verschiedene andine Flöten\, Bongo) bekommt „AMar y Tierra“ einen stärker folkloristischen Klang\, indem sie das Hochland der Anden auf der Bühne hörbar machen. \nFreuen Sie sich auf authentische Gitarren- und Flötenklänge\, begeisternde Rhythmen und eine außergewöhnliche Stimme! \n\n\n	Ähnliche Beiträge
URL:https://mainjazz.de/event/260611/
LOCATION:standard\, Oberthürstr. 11a\, Würzburg
CATEGORIES:Session
ATTACH;FMTTYPE=image/jpeg:https://mainjazz.de/wp-content/uploads/2026/03/260611.jpg
END:VEVENT
END:VCALENDAR