BEGIN:VCALENDAR
VERSION:2.0
PRODID:-//mainJAZZ Würzburg - ECPv6.15.20//NONSGML v1.0//EN
CALSCALE:GREGORIAN
METHOD:PUBLISH
X-WR-CALNAME:mainJAZZ Würzburg
X-ORIGINAL-URL:https://mainjazz.de
X-WR-CALDESC:Veranstaltungen für mainJAZZ Würzburg
REFRESH-INTERVAL;VALUE=DURATION:PT1H
X-Robots-Tag:noindex
X-PUBLISHED-TTL:PT1H
BEGIN:VTIMEZONE
TZID:Europe/Berlin
BEGIN:DAYLIGHT
TZOFFSETFROM:+0100
TZOFFSETTO:+0200
TZNAME:CEST
DTSTART:20250330T010000
END:DAYLIGHT
BEGIN:STANDARD
TZOFFSETFROM:+0200
TZOFFSETTO:+0100
TZNAME:CET
DTSTART:20251026T010000
END:STANDARD
BEGIN:DAYLIGHT
TZOFFSETFROM:+0100
TZOFFSETTO:+0200
TZNAME:CEST
DTSTART:20260329T010000
END:DAYLIGHT
BEGIN:STANDARD
TZOFFSETFROM:+0200
TZOFFSETTO:+0100
TZNAME:CET
DTSTART:20261025T010000
END:STANDARD
BEGIN:DAYLIGHT
TZOFFSETFROM:+0100
TZOFFSETTO:+0200
TZNAME:CEST
DTSTART:20270328T010000
END:DAYLIGHT
BEGIN:STANDARD
TZOFFSETFROM:+0200
TZOFFSETTO:+0100
TZNAME:CET
DTSTART:20271031T010000
END:STANDARD
END:VTIMEZONE
BEGIN:VEVENT
DTSTART;TZID=Europe/Berlin:20260313T193000
DTEND;TZID=Europe/Berlin:20260313T193000
DTSTAMP:20260419T140326
CREATED:20251202T080858Z
LAST-MODIFIED:20260310T022625Z
UID:13080-1773430200-1773430200@mainjazz.de
SUMMARY:Blue Friday Jazz Lounge - The Wes Montgomery Songbook
DESCRIPTION:Dieser Abend widmet sich der Musik des Jazzgitarristen Wes Montgomery (1923-1968)\, der durch seine besondere Spieltechnik Generationen vom Jazzgitarristen beeinflußt hat.\nKommend vom Hardbop und Soul Jazz hat er den Weg für Fusion und Smooth Jazz geebnet. \nJoe Krieg – Gitarre\nBernhard Pichl – Piano\nFelix Wiegand – Kontrabass\nUli Kleideiter – Drums \n\n\n	Ähnliche Beiträge
URL:https://mainjazz.de/event/260313/
LOCATION:Kulturscheune Höchberg\, Wallweg 3\, Höchberg\, 97204
CATEGORIES:Konzert
ATTACH;FMTTYPE=image/jpeg:https://mainjazz.de/wp-content/uploads/2025/12/260313-2.jpg
ORGANIZER;CN="Kulturscheune H%C3%B6chberg":MAILTO:kultur@hoechberg.de
END:VEVENT
END:VCALENDAR