BEGIN:VCALENDAR
VERSION:2.0
PRODID:-//mainJAZZ Würzburg - ECPv6.15.20//NONSGML v1.0//EN
CALSCALE:GREGORIAN
METHOD:PUBLISH
X-WR-CALNAME:mainJAZZ Würzburg
X-ORIGINAL-URL:https://mainjazz.de
X-WR-CALDESC:Veranstaltungen für mainJAZZ Würzburg
REFRESH-INTERVAL;VALUE=DURATION:PT1H
X-Robots-Tag:noindex
X-PUBLISHED-TTL:PT1H
BEGIN:VTIMEZONE
TZID:Europe/Berlin
BEGIN:DAYLIGHT
TZOFFSETFROM:+0100
TZOFFSETTO:+0200
TZNAME:CEST
DTSTART:20250330T010000
END:DAYLIGHT
BEGIN:STANDARD
TZOFFSETFROM:+0200
TZOFFSETTO:+0100
TZNAME:CET
DTSTART:20251026T010000
END:STANDARD
BEGIN:DAYLIGHT
TZOFFSETFROM:+0100
TZOFFSETTO:+0200
TZNAME:CEST
DTSTART:20260329T010000
END:DAYLIGHT
BEGIN:STANDARD
TZOFFSETFROM:+0200
TZOFFSETTO:+0100
TZNAME:CET
DTSTART:20261025T010000
END:STANDARD
BEGIN:DAYLIGHT
TZOFFSETFROM:+0100
TZOFFSETTO:+0200
TZNAME:CEST
DTSTART:20270328T010000
END:DAYLIGHT
BEGIN:STANDARD
TZOFFSETFROM:+0200
TZOFFSETTO:+0100
TZNAME:CET
DTSTART:20271031T010000
END:STANDARD
END:VTIMEZONE
BEGIN:VEVENT
DTSTART;TZID=Europe/Berlin:20260228T193000
DTEND;TZID=Europe/Berlin:20260228T193000
DTSTAMP:20260423T103039
CREATED:20260113T115224Z
LAST-MODIFIED:20260113T115224Z
UID:13546-1772307000-1772307000@mainjazz.de
SUMMARY:Quartessence feat. Marie Kinkelin
DESCRIPTION:Feiner Jazz und eine beeindruckende Stimme am 28.02.2026\nZum zweiten Mal spielt die Würzburger Jazz-Formation Quartessence unter der Leitung von Michael Buttmann im Historischen Rathaus. \nWar das erste Konzert im November 2023 schon ein großer Erfolg\, so hat sich das Quartett nun mit einer jungen Sängerin ergänzt und zeigt eine beeindruckende Bandbreite an Rhythmen und Melodien. Alle Musiker sind nicht nur in der Jazzcombo aktiv\, sondern spielen in verschiedensten anderen Besetzungen vom klassischen Orchester bis zur Big Band. \nDas Repertoire bietet diesmal etwas weniger Pop\, dafür mehr Jazz\, von Standards bis zu modernen Stücken\, von spanischen Liedern bis zu französischen Chansons\, und natürlich die Quartessence-Eigenkompositionen.\nDie junge Sängerin Marie Kinkelin studiert zurzeit in Nürnberg Gesang bei Agnes Lepp und begeistert mit einer atemberaubenden Stimme. Mühelos bewegt sie sich zwischen unterschiedlichen musikalischen Welten\, von Pop über Latin bis zu Jazzklassikern und wird Lieder von Billie Eilish\, Billy Joel und anderen Größen des Jazz und der Popmusik zum Besten geben. \nEin wahrlich hörenswertes Konzert\, das nicht nur Jazzliebhabern beste Unterhaltung bietet. \n\n\n	Ähnliche Beiträge
URL:https://mainjazz.de/event/260228/
LOCATION:Altes Rathaus Retzbach\, Bahnhofstraße 1\, Retzbach
ATTACH;FMTTYPE=image/jpeg:https://mainjazz.de/wp-content/uploads/2026/01/260228.jpg
END:VEVENT
END:VCALENDAR