BEGIN:VCALENDAR
VERSION:2.0
PRODID:-//mainJAZZ Würzburg - ECPv6.15.20//NONSGML v1.0//EN
CALSCALE:GREGORIAN
METHOD:PUBLISH
X-WR-CALNAME:mainJAZZ Würzburg
X-ORIGINAL-URL:https://mainjazz.de
X-WR-CALDESC:Veranstaltungen für mainJAZZ Würzburg
REFRESH-INTERVAL;VALUE=DURATION:PT1H
X-Robots-Tag:noindex
X-PUBLISHED-TTL:PT1H
BEGIN:VTIMEZONE
TZID:Europe/Berlin
BEGIN:DAYLIGHT
TZOFFSETFROM:+0100
TZOFFSETTO:+0200
TZNAME:CEST
DTSTART:20240331T010000
END:DAYLIGHT
BEGIN:STANDARD
TZOFFSETFROM:+0200
TZOFFSETTO:+0100
TZNAME:CET
DTSTART:20241027T010000
END:STANDARD
BEGIN:DAYLIGHT
TZOFFSETFROM:+0100
TZOFFSETTO:+0200
TZNAME:CEST
DTSTART:20250330T010000
END:DAYLIGHT
BEGIN:STANDARD
TZOFFSETFROM:+0200
TZOFFSETTO:+0100
TZNAME:CET
DTSTART:20251026T010000
END:STANDARD
BEGIN:DAYLIGHT
TZOFFSETFROM:+0100
TZOFFSETTO:+0200
TZNAME:CEST
DTSTART:20260329T010000
END:DAYLIGHT
BEGIN:STANDARD
TZOFFSETFROM:+0200
TZOFFSETTO:+0100
TZNAME:CET
DTSTART:20261025T010000
END:STANDARD
END:VTIMEZONE
BEGIN:VEVENT
DTSTART;TZID=Europe/Berlin:20250410T200000
DTEND;TZID=Europe/Berlin:20250410T200000
DTSTAMP:20260421T182916
CREATED:20250203T020545Z
LAST-MODIFIED:20250203T020545Z
UID:9854-1744315200-1744315200@mainjazz.de
SUMMARY:Magnus Mehl-Quartett
DESCRIPTION:Das Programm „upside down and in between“ eröffnet äußerst vielschichtige Klangwelten\, welche von sechs sehr individuellen Musikerpersönlichkeiten in wechselnden Besetzungen ausgelotet werden. \nInnerhalb kompositorisch geschaffener Rahmenbedingungen\, bieten sich jedem der beteiligten Instrumentalisten extrem viel Freiräume für spannungsgeladene Improvisationen und spontane Interaktion. Teilweise kommunizieren die Akteure auch völlig frei im Rahmen von Miniaturen miteinander. \nIn Magnus Mehls Musik entstehen ganz persönliche und einzigartige Momente und es verschmelzen auf eindrucksvolle Art und Weise vier Solisten zu einem Klangkollektiv. \nDas Ensemble wandelt im aktuellen Programm zwischen raffinierter Komposition und ideenreicher Improvisation\, zwischen wuchtiger Dichte und perlender Transparenz\, sowie zwischen lyrischer Melancholie und zupackenden Grooves. \nBesetzung:\nMagnus Mehl – Alto- & Soprano Saxophone\nChristian Mehler – Trompete & Flügelhorn\nDietmar Fuhr – Kontrabass\nFerenc Mehl – Schlagzeug \nEinlass: 19 Uhr\nBeginn: 20 Uhr\nTickets unter www.z87.de \n\n\n	Ähnliche Beiträge
URL:https://mainjazz.de/event/250410/
LOCATION:Keller Z87\, Frankfurter Straße 87\, Würzburg\, 97082
CATEGORIES:Konzert
ATTACH;FMTTYPE=image/jpeg:https://mainjazz.de/wp-content/uploads/2024/09/250410.jpg
ORGANIZER;CN="mainJAZZ e.V.":MAILTO:info@mainjazz.de
END:VEVENT
END:VCALENDAR